Workbook
Name Agriculture: #REF!
Name agricultureGasEFs: #REF!
Name agricultureGasEFsN2O: #REF!
Name agricultureLiquidEFs: #REF!
Name agricultureLiquidEFsN2O: #REF!
Name AgricultureN2O: #REF!
Name allFuels: #REF!
Name Biomass: #REF!
Name BrazilEFs: #REF!
Name BrazilMix: #REF!
Name BrazilYearMap: #REF!
Name Commercial: #REF!
Name commercialGasEFs: #REF!
Name commercialGasEFsN2O: #REF!
Name commercialLiquidEFs: #REF!
Name commercialLiquidEFsN2O: #REF!
Name CommercialN2O: #REF!
Name Construction: #REF!
Name constructionGasEFs: #REF!
Name constructionGasEFsN2O: #REF!
Name constructionLiquidEFs: #REF!
Name constructionLiquidEFsN2O: #REF!
Name ConstructionN2O: #REF!
Name customConversionFactors: #REF!
Name CustomEFs: #REF!
Name customFuelTypes: #REF!
Name customTable: #REF!
Name customUnitMap: #REF!
Name denominatorConversionTable: #REF!
Name denominators: #REF!
Name eight: #REF!
Name eighteen: #REF!
Name eleven: #REF!
Name Energy: #REF!
Name energyEFs: #REF!
Name energyGasEFs: #REF!
Name energyGasEFsN2O: #REF!
Name energyLiquidEFs: #REF!
Name energyLiquidEFsN2O: #REF!
Name EnergyN2O: #REF!
Name errorMessageTable: #REF!
Name fifty: #REF!
Name fiftyfour: #REF!
Name fiftyone: #REF!
Name fiftythree: #REF!
Name fiftytwo: #REF!
Name Fisheries: #REF!
Name fisheriesGasEFs: #REF!
Name fisheriesGasEFsN2O: #REF!
Name fisheriesLiquidEFs: #REF!
Name fisheriesLiquidEFsN2O: #REF!
Name FisheriesN2O: #REF!
Name five: #REF!
Name fiveteen: #REF!
Name Forestry: #REF!
Name forestryGasEFs: #REF!
Name forestryGasEFsN2O: #REF!
Name forestryLiquidEFs: #REF!
Name forestryLiquidEFsN2O: #REF!
Name ForestryN2O: #REF!

Sheet READ ME FIRST
B3: 1 | C3: This tool is only for fuel combustion activities
B4: =B3+1 -> 2 | C4: This tool should be submitted along with the Annexure 3 form
B5: =B4+1 -> 3 | C5: For the activity data to be entered on the Annexure 3 form please use the consumption value and units for each fuel reported.
B6: =B5+1 -> 4 | C6: If supplier-specific NCVs are to be entered they should be in TJ form only. i.e., TJ/Tonne or TJ/L or TJ/m3. No other type of NCV should be used.
B7: 5 | C7: DO NOT OVERRIDE ANY GREY CELLS EXCEPT WHEN ENTERING A SUPPLIER SPECIFIC NCV VALUE OR WHEN ENTERING EMISSIONS VALUES WHEN TIER 3 IS CHOSEN FOR THE GAS. ALL OTHER GREY BLOCKS SHOULD NOT BE CHANGED
B8: 6 | C8: Column F is hidden for a reason. Do not unhide it or change the designation we has chosen for it. That designation has been made for a reason. It is not a mistake for you to correct.
B9: 7 | C9: If you are choosing to manually input your own calculations for CO2 emissions from coal using a carbon content calculation please select the "Manual Input" option for the CO2 Tier and indicate tier 2 on your Annexure 3 form as the methodology.
B10: =B9+1 -> 8 | C10: 14 new Sasol Fuels have been added. Please check for you fuel on the list before assuming another fuel.

Sheet DATA PROVIDER INFO
C2: Guidance
A3: Company Name | B3: e.g. DFFE ENVIRONMENT | C3: Input the company name.
A4: Data Provider ID | B4: e.g. 000000000 | C4: Input the Data provider ID number. The Data provider ID can be found on your Registration/Modification Approval letter
A5: Contact ACO [name] | B5: e.g. Sipho Smith | C5: Input the contact name of the person responsible for this form (ACO)
A6: Contact Email | B6: e.g. ghgreporting@dffe.gov.za | C6: Input the contact email of the person responsible for this form
A7: Contact Number | B7: e.g. 0123990000 | C7: Input the contact number of the accounting officer of the company
A11: 

Sheet DATA INPUT
B2: USER INPUT DATA | U2: GHG calculated emissions
B3: Facility Name | C3: Facility ID | D3: IPCC CODE | E3: Fuel | F3: Fuel Type | G3: Consumption | H3: Units | I3: NCV Type | J3: NCV Value | K3: NCV Unit | L3: Activity Data (TJ) | M3: CO2 Tier Method | N3: CO2 EF (kg/TJ) | O3: CH4 Tier Method | P3: CH4 Emission Factor (EF) | Q3: N2O Tier Method | R3: N2O Emission Factor (EF) | S3: Activity data (TJ) | T3: CO2 | U3: CO2 (Tonnes) | V3: CH4 (Tonnes) | W3: N2O (Tonnes)
D4: Select IPCC Code | E4: Anthracite | F4: =VLOOKUP($E4,'1A Factors'!$G$3:$Q$101,2,FALSE) -> Solid | G4: 200 | H4: =IF(F4="Solid","Tonnes",IF(F4="Liquid","Litres",IF(F4="Gas","m3","Select a fuel in column F"))) -> Tonnes | I4: Country Specific | J4: =IF(I4="IPCC Default",VLOOKUP(E4,'1A Factors'!$G$3:$Q$101,3,FALSE),IF(I4="Country specific",VLOOKUP(E4,'1A Factors'!$G$3:$Q$101,5,FALSE),"")) -> 0.0335 | K4: =IF(I4="IPCC Default",VLOOKUP(E4,'1A Factors'!$G$3:$Q$101,4,FALSE),IF(I4="Country specific",VLOOKUP(E4,'1A Factors'!$G$3:$Q$101,6,FALSE),IF(AND(I4="Supplier specific",F4="Solid"),"TJ/Tonne",IF(AND(I4="Supplier specific",F4="Liquid"),"TJ/L",IF(AND(I4="Supplier specific",F4="Gas"),"TJ/m3",IF(I4="Select NCV","Select NCV Type in column K")))))) -> TJ/Tonne | L4: =IF(AND(F4="Solid",G4>=0),G4*J4,IF(AND(F4="Liquid",G4>=0,I4="IPCC Default"),G4*VLOOKUP('DATA INPUT'!E4,'1A Factors'!$G$3:$Q$103,7,FALSE)*J4/1000,IF(AND(F4="Liquid",G4>=0,I4="Country specific"),G4*J4,IF(AND(F4="Liquid",G4>=0,I4="Supplier Specific"),G4*J4,IF(AND(F4="Gas",G4>=0,I4="IPCC Default"),G4*VLOOKUP('DATA INPUT'!E4,'1A Factors'!$G$3:$Q$103,7,FALSE)*J4/1000,IF(AND(F4="Gas",G4>=0,I4="Country Specific"),G4*J4,IF(AND(F4="Gas",G4>=0,I4="Supplier Specific"),G4*J4,IF(AND(I4="Supplier specific",ISNUMBER(J4)=FALSE),"Enter Supplier specific NCV in column J","Check that consumption value or supplier specific NCV are positive non zero numbers")))))))) -> 6.7 | M4: 2 | N4: =IF(M4=1,VLOOKUP('DATA INPUT'!E4,'1A Factors'!$G$3:$Q$103,8,FALSE),IF('DATA INPUT'!M4=2,VLOOKUP('DATA INPUT'!E4,'1A Factors'!$G$3:$Q$103,9,FALSE),IF(M4="2-Manual Input","",IF('DATA INPUT'!M4=3,"","Choose a Tier in column O")))) -> 93331 | O4: 1 | P4: =IF(O4=1,VLOOKUP('DATA INPUT'!E4,'1A Factors'!$G$3:$Q$103,10,FALSE),"NA") -> 1 | Q4: 1 | R4: =IF(Q4=1,VLOOKUP('DATA INPUT'!E4,'1A Factors'!$G$3:$Q$103,11,FALSE),"NA") -> 1.5 | S4: =IF(P4="", 0, P4) -> 1 | T4: =IF(#REF!="", 0,#REF!) -> #REF! | U4: =IF(M4="2-Manual Input","Enter tier 2 manual emissions in this cell", IF(M4=3,"Enter tier 3 emissions in this cell",IF(N4>0,L4*N4/1000,"ERROR, Check CO2 EF"))) -> 625.3177 | V4: =IF(O4=1,L4*P4/1000,IF(O4=3,"Enter Tier 3 emissions in this cell","ERROR, Check CH4 EF")) -> 0.0067 | W4: =IF(Q4=1,L4*R4/1000,IF(Q4=3,"Enter Tier 3 emissions in this cell","ERROR, Check N2O EF")) -> 0.01005
D5: Select IPCC Code | E5: Select Fuel Type | F5: =VLOOKUP($E5,'1A Factors'!$G$3:$Q$101,2,FALSE) -> 0 | H5: =IF(F5="Solid","Tonnes",IF(F5="Liquid","Litres",IF(F5="Gas","m3","Select a fuel in column F"))) -> Select a fuel in column F | I5: Select NCV | J5: =IF(I5="IPCC Default",VLOOKUP(E5,'1A Factors'!$G$3:$Q$101,3,FALSE),IF(I5="Country specific",VLOOKUP(E5,'1A Factors'!$G$3:$Q$101,5,FALSE),"")) | K5: =IF(I5="IPCC Default",VLOOKUP(E5,'1A Factors'!$G$3:$Q$101,4,FALSE),IF(I5="Country specific",VLOOKUP(E5,'1A Factors'!$G$3:$Q$101,6,FALSE),IF(AND(I5="Supplier specific",F5="Solid"),"TJ/Tonne",IF(AND(I5="Supplier specific",F5="Liquid"),"TJ/L",IF(AND(I5="Supplier specific",F5="Gas"),"TJ/m3",IF(I5="Select NCV","Select NCV Type in column K")))))) -> Select NCV Type in column K | L5: =IF(AND(F5="Solid",G5>=0),G5*J5,IF(AND(F5="Liquid",G5>=0,I5="IPCC Default"),G5*VLOOKUP('DATA INPUT'!E5,'1A Factors'!$G$3:$Q$103,7,FALSE)*J5/1000,IF(AND(F5="Liquid",G5>=0,I5="Country specific"),G5*J5,IF(AND(F5="Liquid",G5>=0,I5="Supplier Specific"),G5*J5,IF(AND(F5="Gas",G5>=0,I5="IPCC Default"),G5*VLOOKUP('DATA INPUT'!E5,'1A Factors'!$G$3:$Q$103,7,FALSE)*J5/1000,IF(AND(F5="Gas",G5>=0,I5="Country Specific"),G5*J5,IF(AND(F5="Gas",G5>=0,I5="Supplier Specific"),G5*J5,IF(AND(I5="Supplier specific",ISNUMBER(J5)=FALSE),"Enter Supplier specific NCV in column J","Check that consumption value or supplier specific NCV are positive non zero numbers")))))))) -> Check that consumption value or supplier specific NCV are positive non zero numbers | M5: Select Tier Method | N5: =IF(M5=1,VLOOKUP('DATA INPUT'!E5,'1A Factors'!$G$3:$Q$103,8,FALSE),IF('DATA INPUT'!M5=2,VLOOKUP('DATA INPUT'!E5,'1A Factors'!$G$3:$Q$103,9,FALSE),IF(M5="2-Manual Input","",IF('DATA INPUT'!M5=3,"","Choose a Tier in column O")))) -> Choose a Tier in column O | O5: 1 | P5: =IF(O5=1,VLOOKUP('DATA INPUT'!E5,'1A Factors'!$G$3:$Q$103,10,FALSE),"NA") -> 0 | Q5: 1 | R5: =IF(Q5=1,VLOOKUP('DATA INPUT'!E5,'1A Factors'!$G$3:$Q$103,11,FALSE),"NA") -> 0 | S5: =IF(P5="", 0, P5) -> 0 | T5: =IF(#REF!="", 0,#REF!) -> #REF! | U5: =IF(M5="2-Manual Input","Enter tier 2 manual emissions in this cell", IF(M5=3,"Enter tier 3 emissions in this cell",IF(N5>0,L5*N5/1000,"ERROR, Check CO2 EF"))) -> #VALUE! | V5: =IF(O5=1,L5*P5/1000,IF(O5=3,"Enter Tier 3 emissions in this cell","ERROR, Check CH4 EF")) -> #VALUE! | W5: =IF(Q5=1,L5*R5/1000,IF(Q5=3,"Enter Tier 3 emissions in this cell","ERROR, Check N2O EF")) -> #VALUE!
D6: Select IPCC Code | E6: Select Fuel Type | F6: =VLOOKUP($E6,'1A Factors'!$G$3:$Q$101,2,FALSE) -> 0 | H6: =IF(F6="Solid","Tonnes",IF(F6="Liquid","Litres",IF(F6="Gas","m3","Select a fuel in column F"))) -> Select a fuel in column F | I6: Select NCV | J6: =IF(I6="IPCC Default",VLOOKUP(E6,'1A Factors'!$G$3:$Q$101,3,FALSE),IF(I6="Country specific",VLOOKUP(E6,'1A Factors'!$G$3:$Q$101,5,FALSE),"")) | K6: =IF(I6="IPCC Default",VLOOKUP(E6,'1A Factors'!$G$3:$Q$101,4,FALSE),IF(I6="Country specific",VLOOKUP(E6,'1A Factors'!$G$3:$Q$101,6,FALSE),IF(AND(I6="Supplier specific",F6="Solid"),"TJ/Tonne",IF(AND(I6="Supplier specific",F6="Liquid"),"TJ/L",IF(AND(I6="Supplier specific",F6="Gas"),"TJ/m3",IF(I6="Select NCV","Select NCV Type in column K")))))) -> Select NCV Type in column K | L6: =IF(AND(F6="Solid",G6>=0),G6*J6,IF(AND(F6="Liquid",G6>=0,I6="IPCC Default"),G6*VLOOKUP('DATA INPUT'!E6,'1A Factors'!$G$3:$Q$103,7,FALSE)*J6/1000,IF(AND(F6="Liquid",G6>=0,I6="Country specific"),G6*J6,IF(AND(F6="Liquid",G6>=0,I6="Supplier Specific"),G6*J6,IF(AND(F6="Gas",G6>=0,I6="IPCC Default"),G6*VLOOKUP('DATA INPUT'!E6,'1A Factors'!$G$3:$Q$103,7,FALSE)*J6/1000,IF(AND(F6="Gas",G6>=0,I6="Country Specific"),G6*J6,IF(AND(F6="Gas",G6>=0,I6="Supplier Specific"),G6*J6,IF(AND(I6="Supplier specific",ISNUMBER(J6)=FALSE),"Enter Supplier specific NCV in column J","Check that consumption value or supplier specific NCV are positive non zero numbers")))))))) -> Check that consumption value or supplier specific NCV are positive non zero numbers | M6: Select Tier Method | N6: =IF(M6=1,VLOOKUP('DATA INPUT'!E6,'1A Factors'!$G$3:$Q$103,8,FALSE),IF('DATA INPUT'!M6=2,VLOOKUP('DATA INPUT'!E6,'1A Factors'!$G$3:$Q$103,9,FALSE),IF(M6="2-Manual Input","",IF('DATA INPUT'!M6=3,"","Choose a Tier in column O")))) -> Choose a Tier in column O | O6: 1 | P6: =IF(O6=1,VLOOKUP('DATA INPUT'!E6,'1A Factors'!$G$3:$Q$103,10,FALSE),"NA") -> 0 | Q6: 1 | R6: =IF(Q6=1,VLOOKUP('DATA INPUT'!E6,'1A Factors'!$G$3:$Q$103,11,FALSE),"NA") -> 0 | S6: =IF(P6="", 0, P6) -> 0 | T6: =IF(#REF!="", 0,#REF!) -> #REF! | U6: =IF(M6="2-Manual Input","Enter tier 2 manual emissions in this cell", IF(M6=3,"Enter tier 3 emissions in this cell",IF(N6>0,L6*N6/1000,"ERROR, Check CO2 EF"))) -> #VALUE! | V6: =IF(O6=1,L6*P6/1000,IF(O6=3,"Enter Tier 3 emissions in this cell","ERROR, Check CH4 EF")) -> #VALUE! | W6: =IF(Q6=1,L6*R6/1000,IF(Q6=3,"Enter Tier 3 emissions in this cell","ERROR, Check N2O EF")) -> #VALUE!
D7: Select IPCC Code | E7: Select Fuel Type | F7: =VLOOKUP($E7,'1A Factors'!$G$3:$Q$101,2,FALSE) -> 0 | H7: =IF(F7="Solid","Tonnes",IF(F7="Liquid","Litres",IF(F7="Gas","m3","Select a fuel in column F"))) -> Select a fuel in column F | I7: Select NCV | J7: =IF(I7="IPCC Default",VLOOKUP(E7,'1A Factors'!$G$3:$Q$101,3,FALSE),IF(I7="Country specific",VLOOKUP(E7,'1A Factors'!$G$3:$Q$101,5,FALSE),"")) | K7: =IF(I7="IPCC Default",VLOOKUP(E7,'1A Factors'!$G$3:$Q$101,4,FALSE),IF(I7="Country specific",VLOOKUP(E7,'1A Factors'!$G$3:$Q$101,6,FALSE),IF(AND(I7="Supplier specific",F7="Solid"),"TJ/Tonne",IF(AND(I7="Supplier specific",F7="Liquid"),"TJ/L",IF(AND(I7="Supplier specific",F7="Gas"),"TJ/m3",IF(I7="Select NCV","Select NCV Type in column K")))))) -> Select NCV Type in column K | L7: =IF(AND(F7="Solid",G7>=0),G7*J7,IF(AND(F7="Liquid",G7>=0,I7="IPCC Default"),G7*VLOOKUP('DATA INPUT'!E7,'1A Factors'!$G$3:$Q$103,7,FALSE)*J7/1000,IF(AND(F7="Liquid",G7>=0,I7="Country specific"),G7*J7,IF(AND(F7="Liquid",G7>=0,I7="Supplier Specific"),G7*J7,IF(AND(F7="Gas",G7>=0,I7="IPCC Default"),G7*VLOOKUP('DATA INPUT'!E7,'1A Factors'!$G$3:$Q$103,7,FALSE)*J7/1000,IF(AND(F7="Gas",G7>=0,I7="Country Specific"),G7*J7,IF(AND(F7="Gas",G7>=0,I7="Supplier Specific"),G7*J7,IF(AND(I7="Supplier specific",ISNUMBER(J7)=FALSE),"Enter Supplier specific NCV in column J","Check that consumption value or supplier specific NCV are positive non zero numbers")))))))) -> Check that consumption value or supplier specific NCV are positive non zero numbers | M7: Select Tier Method | N7: =IF(M7=1,VLOOKUP('DATA INPUT'!E7,'1A Factors'!$G$3:$Q$103,8,FALSE),IF('DATA INPUT'!M7=2,VLOOKUP('DATA INPUT'!E7,'1A Factors'!$G$3:$Q$103,9,FALSE),IF(M7="2-Manual Input","",IF('DATA INPUT'!M7=3,"","Choose a Tier in column O")))) -> Choose a Tier in column O | O7: 1 | P7: =IF(O7=1,VLOOKUP('DATA INPUT'!E7,'1A Factors'!$G$3:$Q$103,10,FALSE),"NA") -> 0 | Q7: 1 | R7: =IF(Q7=1,VLOOKUP('DATA INPUT'!E7,'1A Factors'!$G$3:$Q$103,11,FALSE),"NA") -> 0 | S7: =IF(P7="", 0, P7) -> 0 | T7: =IF(#REF!="", 0,#REF!) -> #REF! | U7: =IF(M7="2-Manual Input","Enter tier 2 manual emissions in this cell", IF(M7=3,"Enter tier 3 emissions in this cell",IF(N7>0,L7*N7/1000,"ERROR, Check CO2 EF"))) -> #VALUE! | V7: =IF(O7=1,L7*P7/1000,IF(O7=3,"Enter Tier 3 emissions in this cell","ERROR, Check CH4 EF")) -> #VALUE! | W7: =IF(Q7=1,L7*R7/1000,IF(Q7=3,"Enter Tier 3 emissions in this cell","ERROR, Check N2O EF")) -> #VALUE!
D8: Select IPCC Code | E8: Select Fuel Type | F8: =VLOOKUP($E8,'1A Factors'!$G$3:$Q$101,2,FALSE) -> 0 | H8: =IF(F8="Solid","Tonnes",IF(F8="Liquid","Litres",IF(F8="Gas","m3","Select a fuel in column F"))) -> Select a fuel in column F | I8: Select NCV | J8: =IF(I8="IPCC Default",VLOOKUP(E8,'1A Factors'!$G$3:$Q$101,3,FALSE),IF(I8="Country specific",VLOOKUP(E8,'1A Factors'!$G$3:$Q$101,5,FALSE),"")) | K8: =IF(I8="IPCC Default",VLOOKUP(E8,'1A Factors'!$G$3:$Q$101,4,FALSE),IF(I8="Country specific",VLOOKUP(E8,'1A Factors'!$G$3:$Q$101,6,FALSE),IF(AND(I8="Supplier specific",F8="Solid"),"TJ/Tonne",IF(AND(I8="Supplier specific",F8="Liquid"),"TJ/L",IF(AND(I8="Supplier specific",F8="Gas"),"TJ/m3",IF(I8="Select NCV","Select NCV Type in column K")))))) -> Select NCV Type in column K | L8: =IF(AND(F8="Solid",G8>=0),G8*J8,IF(AND(F8="Liquid",G8>=0,I8="IPCC Default"),G8*VLOOKUP('DATA INPUT'!E8,'1A Factors'!$G$3:$Q$103,7,FALSE)*J8/1000,IF(AND(F8="Liquid",G8>=0,I8="Country specific"),G8*J8,IF(AND(F8="Liquid",G8>=0,I8="Supplier Specific"),G8*J8,IF(AND(F8="Gas",G8>=0,I8="IPCC Default"),G8*VLOOKUP('DATA INPUT'!E8,'1A Factors'!$G$3:$Q$103,7,FALSE)*J8/1000,IF(AND(F8="Gas",G8>=0,I8="Country Specific"),G8*J8,IF(AND(F8="Gas",G8>=0,I8="Supplier Specific"),G8*J8,IF(AND(I8="Supplier specific",ISNUMBER(J8)=FALSE),"Enter Supplier specific NCV in column J","Check that consumption value or supplier specific NCV are positive non zero numbers")))))))) -> Check that consumption value or supplier specific NCV are positive non zero numbers | M8: Select Tier Method | N8: =IF(M8=1,VLOOKUP('DATA INPUT'!E8,'1A Factors'!$G$3:$Q$103,8,FALSE),IF('DATA INPUT'!M8=2,VLOOKUP('DATA INPUT'!E8,'1A Factors'!$G$3:$Q$103,9,FALSE),IF(M8="2-Manual Input","",IF('DATA INPUT'!M8=3,"","Choose a Tier in column O")))) -> Choose a Tier in column O | O8: 1 | P8: =IF(O8=1,VLOOKUP('DATA INPUT'!E8,'1A Factors'!$G$3:$Q$103,10,FALSE),"NA") -> 0 | Q8: 1 | R8: =IF(Q8=1,VLOOKUP('DATA INPUT'!E8,'1A Factors'!$G$3:$Q$103,11,FALSE),"NA") -> 0 | S8: =IF(P8="", 0, P8) -> 0 | T8: =IF(#REF!="", 0,#REF!) -> #REF! | U8: =IF(M8="2-Manual Input","Enter tier 2 manual emissions in this cell", IF(M8=3,"Enter tier 3 emissions in this cell",IF(N8>0,L8*N8/1000,"ERROR, Check CO2 EF"))) -> #VALUE! | V8: =IF(O8=1,L8*P8/1000,IF(O8=3,"Enter Tier 3 emissions in this cell","ERROR, Check CH4 EF")) -> #VALUE! | W8: =IF(Q8=1,L8*R8/1000,IF(Q8=3,"Enter Tier 3 emissions in this cell","ERROR, Check N2O EF")) -> #VALUE!
D9: Select IPCC Code | E9: Select Fuel Type | F9: =VLOOKUP($E9,'1A Factors'!$G$3:$Q$101,2,FALSE) -> 0 | H9: =IF(F9="Solid","Tonnes",IF(F9="Liquid","Litres",IF(F9="Gas","m3","Select a fuel in column F"))) -> Select a fuel in column F | I9: Select NCV | J9: =IF(I9="IPCC Default",VLOOKUP(E9,'1A Factors'!$G$3:$Q$101,3,FALSE),IF(I9="Country specific",VLOOKUP(E9,'1A Factors'!$G$3:$Q$101,5,FALSE),"")) | K9: =IF(I9="IPCC Default",VLOOKUP(E9,'1A Factors'!$G$3:$Q$101,4,FALSE),IF(I9="Country specific",VLOOKUP(E9,'1A Factors'!$G$3:$Q$101,6,FALSE),IF(AND(I9="Supplier specific",F9="Solid"),"TJ/Tonne",IF(AND(I9="Supplier specific",F9="Liquid"),"TJ/L",IF(AND(I9="Supplier specific",F9="Gas"),"TJ/m3",IF(I9="Select NCV","Select NCV Type in column K")))))) -> Select NCV Type in column K | L9: =IF(AND(F9="Solid",G9>=0),G9*J9,IF(AND(F9="Liquid",G9>=0,I9="IPCC Default"),G9*VLOOKUP('DATA INPUT'!E9,'1A Factors'!$G$3:$Q$103,7,FALSE)*J9/1000,IF(AND(F9="Liquid",G9>=0,I9="Country specific"),G9*J9,IF(AND(F9="Liquid",G9>=0,I9="Supplier Specific"),G9*J9,IF(AND(F9="Gas",G9>=0,I9="IPCC Default"),G9*VLOOKUP('DATA INPUT'!E9,'1A Factors'!$G$3:$Q$103,7,FALSE)*J9/1000,IF(AND(F9="Gas",G9>=0,I9="Country Specific"),G9*J9,IF(AND(F9="Gas",G9>=0,I9="Supplier Specific"),G9*J9,IF(AND(I9="Supplier specific",ISNUMBER(J9)=FALSE),"Enter Supplier specific NCV in column J","Check that consumption value or supplier specific NCV are positive non zero numbers")))))))) -> Check that consumption value or supplier specific NCV are positive non zero numbers | M9: Select Tier Method | N9: =IF(M9=1,VLOOKUP('DATA INPUT'!E9,'1A Factors'!$G$3:$Q$103,8,FALSE),IF('DATA INPUT'!M9=2,VLOOKUP('DATA INPUT'!E9,'1A Factors'!$G$3:$Q$103,9,FALSE),IF(M9="2-Manual Input","",IF('DATA INPUT'!M9=3,"","Choose a Tier in column O")))) -> Choose a Tier in column O | O9: 1 | P9: =IF(O9=1,VLOOKUP('DATA INPUT'!E9,'1A Factors'!$G$3:$Q$103,10,FALSE),"NA") -> 0 | Q9: 1 | R9: =IF(Q9=1,VLOOKUP('DATA INPUT'!E9,'1A Factors'!$G$3:$Q$103,11,FALSE),"NA") -> 0 | S9: =IF(P9="", 0, P9) -> 0 | T9: =IF(#REF!="", 0,#REF!) -> #REF! | U9: =IF(M9="2-Manual Input","Enter tier 2 manual emissions in this cell", IF(M9=3,"Enter tier 3 emissions in this cell",IF(N9>0,L9*N9/1000,"ERROR, Check CO2 EF"))) -> #VALUE! | V9: =IF(O9=1,L9*P9/1000,IF(O9=3,"Enter Tier 3 emissions in this cell","ERROR, Check CH4 EF")) -> #VALUE! | W9: =IF(Q9=1,L9*R9/1000,IF(Q9=3,"Enter Tier 3 emissions in this cell","ERROR, Check N2O EF")) -> #VALUE!
D10: Select IPCC Code | E10: Select Fuel Type | F10: =VLOOKUP($E10,'1A Factors'!$G$3:$Q$101,2,FALSE) -> 0 | H10: =IF(F10="Solid","Tonnes",IF(F10="Liquid","Litres",IF(F10="Gas","m3","Select a fuel in column F"))) -> Select a fuel in column F | I10: Select NCV | J10: =IF(I10="IPCC Default",VLOOKUP(E10,'1A Factors'!$G$3:$Q$101,3,FALSE),IF(I10="Country specific",VLOOKUP(E10,'1A Factors'!$G$3:$Q$101,5,FALSE),"")) | K10: =IF(I10="IPCC Default",VLOOKUP(E10,'1A Factors'!$G$3:$Q$101,4,FALSE),IF(I10="Country specific",VLOOKUP(E10,'1A Factors'!$G$3:$Q$101,6,FALSE),IF(AND(I10="Supplier specific",F10="Solid"),"TJ/Tonne",IF(AND(I10="Supplier specific",F10="Liquid"),"TJ/L",IF(AND(I10="Supplier specific",F10="Gas"),"TJ/m3",IF(I10="Select NCV","Select NCV Type in column K")))))) -> Select NCV Type in column K | L10: =IF(AND(F10="Solid",G10>=0),G10*J10,IF(AND(F10="Liquid",G10>=0,I10="IPCC Default"),G10*VLOOKUP('DATA INPUT'!E10,'1A Factors'!$G$3:$Q$103,7,FALSE)*J10/1000,IF(AND(F10="Liquid",G10>=0,I10="Country specific"),G10*J10,IF(AND(F10="Liquid",G10>=0,I10="Supplier Specific"),G10*J10,IF(AND(F10="Gas",G10>=0,I10="IPCC Default"),G10*VLOOKUP('DATA INPUT'!E10,'1A Factors'!$G$3:$Q$103,7,FALSE)*J10/1000,IF(AND(F10="Gas",G10>=0,I10="Country Specific"),G10*J10,IF(AND(F10="Gas",G10>=0,I10="Supplier Specific"),G10*J10,IF(AND(I10="Supplier specific",ISNUMBER(J10)=FALSE),"Enter Supplier specific NCV in column J","Check that consumption value or supplier specific NCV are positive non zero numbers")))))))) -> Check that consumption value or supplier specific NCV are positive non zero numbers | M10: Select Tier Method | N10: =IF(M10=1,VLOOKUP('DATA INPUT'!E10,'1A Factors'!$G$3:$Q$103,8,FALSE),IF('DATA INPUT'!M10=2,VLOOKUP('DATA INPUT'!E10,'1A Factors'!$G$3:$Q$103,9,FALSE),IF(M10="2-Manual Input","",IF('DATA INPUT'!M10=3,"","Choose a Tier in column O")))) -> Choose a Tier in column O | O10: 1 | P10: =IF(O10=1,VLOOKUP('DATA INPUT'!E10,'1A Factors'!$G$3:$Q$103,10,FALSE),"NA") -> 0 | Q10: 1 | R10: =IF(Q10=1,VLOOKUP('DATA INPUT'!E10,'1A Factors'!$G$3:$Q$103,11,FALSE),"NA") -> 0 | S10: =IF(P10="", 0, P10) -> 0 | T10: =IF(#REF!="", 0,#REF!) -> #REF! | U10: =IF(M10="2-Manual Input","Enter tier 2 manual emissions in this cell", IF(M10=3,"Enter tier 3 emissions in this cell",IF(N10>0,L10*N10/1000,"ERROR, Check CO2 EF"))) -> #VALUE! | V10: =IF(O10=1,L10*P10/1000,IF(O10=3,"Enter Tier 3 emissions in this cell","ERROR, Check CH4 EF")) -> #VALUE! | W10: =IF(Q10=1,L10*R10/1000,IF(Q10=3,"Enter Tier 3 emissions in this cell","ERROR, Check N2O EF")) -> #VALUE!
D11: Select IPCC Code | E11: Select Fuel Type | F11: =VLOOKUP($E11,'1A Factors'!$G$3:$Q$101,2,FALSE) -> 0 | H11: =IF(F11="Solid","Tonnes",IF(F11="Liquid","Litres",IF(F11="Gas","m3","Select a fuel in column F"))) -> Select a fuel in column F | I11: Select NCV | J11: =IF(I11="IPCC Default",VLOOKUP(E11,'1A Factors'!$G$3:$Q$101,3,FALSE),IF(I11="Country specific",VLOOKUP(E11,'1A Factors'!$G$3:$Q$101,5,FALSE),"")) | K11: =IF(I11="IPCC Default",VLOOKUP(E11,'1A Factors'!$G$3:$Q$101,4,FALSE),IF(I11="Country specific",VLOOKUP(E11,'1A Factors'!$G$3:$Q$101,6,FALSE),IF(AND(I11="Supplier specific",F11="Solid"),"TJ/Tonne",IF(AND(I11="Supplier specific",F11="Liquid"),"TJ/L",IF(AND(I11="Supplier specific",F11="Gas"),"TJ/m3",IF(I11="Select NCV","Select NCV Type in column K")))))) -> Select NCV Type in column K | L11: =IF(AND(F11="Solid",G11>=0),G11*J11,IF(AND(F11="Liquid",G11>=0,I11="IPCC Default"),G11*VLOOKUP('DATA INPUT'!E11,'1A Factors'!$G$3:$Q$103,7,FALSE)*J11/1000,IF(AND(F11="Liquid",G11>=0,I11="Country specific"),G11*J11,IF(AND(F11="Liquid",G11>=0,I11="Supplier Specific"),G11*J11,IF(AND(F11="Gas",G11>=0,I11="IPCC Default"),G11*VLOOKUP('DATA INPUT'!E11,'1A Factors'!$G$3:$Q$103,7,FALSE)*J11/1000,IF(AND(F11="Gas",G11>=0,I11="Country Specific"),G11*J11,IF(AND(F11="Gas",G11>=0,I11="Supplier Specific"),G11*J11,IF(AND(I11="Supplier specific",ISNUMBER(J11)=FALSE),"Enter Supplier specific NCV in column J","Check that consumption value or supplier specific NCV are positive non zero numbers")))))))) -> Check that consumption value or supplier specific NCV are positive non zero numbers | M11: Select Tier Method | N11: =IF(M11=1,VLOOKUP('DATA INPUT'!E11,'1A Factors'!$G$3:$Q$103,8,FALSE),IF('DATA INPUT'!M11=2,VLOOKUP('DATA INPUT'!E11,'1A Factors'!$G$3:$Q$103,9,FALSE),IF(M11="2-Manual Input","",IF('DATA INPUT'!M11=3,"","Choose a Tier in column O")))) -> Choose a Tier in column O | O11: 1 | P11: =IF(O11=1,VLOOKUP('DATA INPUT'!E11,'1A Factors'!$G$3:$Q$103,10,FALSE),"NA") -> 0 | Q11: 1 | R11: =IF(Q11=1,VLOOKUP('DATA INPUT'!E11,'1A Factors'!$G$3:$Q$103,11,FALSE),"NA") -> 0 | S11: =IF(P11="", 0, P11) -> 0 | T11: =IF(#REF!="", 0,#REF!) -> #REF! | U11: =IF(M11="2-Manual Input","Enter tier 2 manual emissions in this cell", IF(M11=3,"Enter tier 3 emissions in this cell",IF(N11>0,L11*N11/1000,"ERROR, Check CO2 EF"))) -> #VALUE! | V11: =IF(O11=1,L11*P11/1000,IF(O11=3,"Enter Tier 3 emissions in this cell","ERROR, Check CH4 EF")) -> #VALUE! | W11: =IF(Q11=1,L11*R11/1000,IF(Q11=3,"Enter Tier 3 emissions in this cell","ERROR, Check N2O EF")) -> #VALUE!
D12: Select IPCC Code | E12: Select Fuel Type | F12: =VLOOKUP($E12,'1A Factors'!$G$3:$Q$101,2,FALSE) -> 0 | H12: =IF(F12="Solid","Tonnes",IF(F12="Liquid","Litres",IF(F12="Gas","m3","Select a fuel in column F"))) -> Select a fuel in column F | I12: Select NCV | J12: =IF(I12="IPCC Default",VLOOKUP(E12,'1A Factors'!$G$3:$Q$101,3,FALSE),IF(I12="Country specific",VLOOKUP(E12,'1A Factors'!$G$3:$Q$101,5,FALSE),"")) | K12: =IF(I12="IPCC Default",VLOOKUP(E12,'1A Factors'!$G$3:$Q$101,4,FALSE),IF(I12="Country specific",VLOOKUP(E12,'1A Factors'!$G$3:$Q$101,6,FALSE),IF(AND(I12="Supplier specific",F12="Solid"),"TJ/Tonne",IF(AND(I12="Supplier specific",F12="Liquid"),"TJ/L",IF(AND(I12="Supplier specific",F12="Gas"),"TJ/m3",IF(I12="Select NCV","Select NCV Type in column K")))))) -> Select NCV Type in column K | L12: =IF(AND(F12="Solid",G12>=0),G12*J12,IF(AND(F12="Liquid",G12>=0,I12="IPCC Default"),G12*VLOOKUP('DATA INPUT'!E12,'1A Factors'!$G$3:$Q$103,7,FALSE)*J12/1000,IF(AND(F12="Liquid",G12>=0,I12="Country specific"),G12*J12,IF(AND(F12="Liquid",G12>=0,I12="Supplier Specific"),G12*J12,IF(AND(F12="Gas",G12>=0,I12="IPCC Default"),G12*VLOOKUP('DATA INPUT'!E12,'1A Factors'!$G$3:$Q$103,7,FALSE)*J12/1000,IF(AND(F12="Gas",G12>=0,I12="Country Specific"),G12*J12,IF(AND(F12="Gas",G12>=0,I12="Supplier Specific"),G12*J12,IF(AND(I12="Supplier specific",ISNUMBER(J12)=FALSE),"Enter Supplier specific NCV in column J","Check that consumption value or supplier specific NCV are positive non zero numbers")))))))) -> Check that consumption value or supplier specific NCV are positive non zero numbers | M12: Select Tier Method | N12: =IF(M12=1,VLOOKUP('DATA INPUT'!E12,'1A Factors'!$G$3:$Q$103,8,FALSE),IF('DATA INPUT'!M12=2,VLOOKUP('DATA INPUT'!E12,'1A Factors'!$G$3:$Q$103,9,FALSE),IF(M12="2-Manual Input","",IF('DATA INPUT'!M12=3,"","Choose a Tier in column O")))) -> Choose a Tier in column O | O12: 1 | P12: =IF(O12=1,VLOOKUP('DATA INPUT'!E12,'1A Factors'!$G$3:$Q$103,10,FALSE),"NA") -> 0 | Q12: 1 | R12: =IF(Q12=1,VLOOKUP('DATA INPUT'!E12,'1A Factors'!$G$3:$Q$103,11,FALSE),"NA") -> 0 | S12: =IF(P12="", 0, P12) -> 0 | T12: =IF(#REF!="", 0,#REF!) -> #REF! | U12: =IF(M12="2-Manual Input","Enter tier 2 manual emissions in this cell", IF(M12=3,"Enter tier 3 emissions in this cell",IF(N12>0,L12*N12/1000,"ERROR, Check CO2 EF"))) -> #VALUE! | V12: =IF(O12=1,L12*P12/1000,IF(O12=3,"Enter Tier 3 emissions in this cell","ERROR, Check CH4 EF")) -> #VALUE! | W12: =IF(Q12=1,L12*R12/1000,IF(Q12=3,"Enter Tier 3 emissions in this cell","ERROR, Check N2O EF")) -> #VALUE!
D13: Select IPCC Code | E13: Select Fuel Type | F13: =VLOOKUP($E13,'1A Factors'!$G$3:$Q$101,2,FALSE) -> 0 | H13: =IF(F13="Solid","Tonnes",IF(F13="Liquid","Litres",IF(F13="Gas","m3","Select a fuel in column F"))) -> Select a fuel in column F | I13: Select NCV | J13: =IF(I13="IPCC Default",VLOOKUP(E13,'1A Factors'!$G$3:$Q$101,3,FALSE),IF(I13="Country specific",VLOOKUP(E13,'1A Factors'!$G$3:$Q$101,5,FALSE),"")) | K13: =IF(I13="IPCC Default",VLOOKUP(E13,'1A Factors'!$G$3:$Q$101,4,FALSE),IF(I13="Country specific",VLOOKUP(E13,'1A Factors'!$G$3:$Q$101,6,FALSE),IF(AND(I13="Supplier specific",F13="Solid"),"TJ/Tonne",IF(AND(I13="Supplier specific",F13="Liquid"),"TJ/L",IF(AND(I13="Supplier specific",F13="Gas"),"TJ/m3",IF(I13="Select NCV","Select NCV Type in column K")))))) -> Select NCV Type in column K | L13: =IF(AND(F13="Solid",G13>=0),G13*J13,IF(AND(F13="Liquid",G13>=0,I13="IPCC Default"),G13*VLOOKUP('DATA INPUT'!E13,'1A Factors'!$G$3:$Q$103,7,FALSE)*J13/1000,IF(AND(F13="Liquid",G13>=0,I13="Country specific"),G13*J13,IF(AND(F13="Liquid",G13>=0,I13="Supplier Specific"),G13*J13,IF(AND(F13="Gas",G13>=0,I13="IPCC Default"),G13*VLOOKUP('DATA INPUT'!E13,'1A Factors'!$G$3:$Q$103,7,FALSE)*J13/1000,IF(AND(F13="Gas",G13>=0,I13="Country Specific"),G13*J13,IF(AND(F13="Gas",G13>=0,I13="Supplier Specific"),G13*J13,IF(AND(I13="Supplier specific",ISNUMBER(J13)=FALSE),"Enter Supplier specific NCV in column J","Check that consumption value or supplier specific NCV are positive non zero numbers")))))))) -> Check that consumption value or supplier specific NCV are positive non zero numbers | M13: Select Tier Method | N13: =IF(M13=1,VLOOKUP('DATA INPUT'!E13,'1A Factors'!$G$3:$Q$103,8,FALSE),IF('DATA INPUT'!M13=2,VLOOKUP('DATA INPUT'!E13,'1A Factors'!$G$3:$Q$103,9,FALSE),IF(M13="2-Manual Input","",IF('DATA INPUT'!M13=3,"","Choose a Tier in column O")))) -> Choose a Tier in column O | O13: 1 | P13: =IF(O13=1,VLOOKUP('DATA INPUT'!E13,'1A Factors'!$G$3:$Q$103,10,FALSE),"NA") -> 0 | Q13: 1 | R13: =IF(Q13=1,VLOOKUP('DATA INPUT'!E13,'1A Factors'!$G$3:$Q$103,11,FALSE),"NA") -> 0 | S13: =IF(P13="", 0, P13) -> 0 | T13: =IF(#REF!="", 0,#REF!) -> #REF! | U13: =IF(M13="2-Manual Input","Enter tier 2 manual emissions in this cell", IF(M13=3,"Enter tier 3 emissions in this cell",IF(N13>0,L13*N13/1000,"ERROR, Check CO2 EF"))) -> #VALUE! | V13: =IF(O13=1,L13*P13/1000,IF(O13=3,"Enter Tier 3 emissions in this cell","ERROR, Check CH4 EF")) -> #VALUE! | W13: =IF(Q13=1,L13*R13/1000,IF(Q13=3,"Enter Tier 3 emissions in this cell","ERROR, Check N2O EF")) -> #VALUE!
D14: Select IPCC Code | E14: Select Fuel Type | F14: =VLOOKUP($E14,'1A Factors'!$G$3:$Q$101,2,FALSE) -> 0 | H14: =IF(F14="Solid","Tonnes",IF(F14="Liquid","Litres",IF(F14="Gas","m3","Select a fuel in column F"))) -> Select a fuel in column F | I14: Select NCV | J14: =IF(I14="IPCC Default",VLOOKUP(E14,'1A Factors'!$G$3:$Q$101,3,FALSE),IF(I14="Country specific",VLOOKUP(E14,'1A Factors'!$G$3:$Q$101,5,FALSE),"")) | K14: =IF(I14="IPCC Default",VLOOKUP(E14,'1A Factors'!$G$3:$Q$101,4,FALSE),IF(I14="Country specific",VLOOKUP(E14,'1A Factors'!$G$3:$Q$101,6,FALSE),IF(AND(I14="Supplier specific",F14="Solid"),"TJ/Tonne",IF(AND(I14="Supplier specific",F14="Liquid"),"TJ/L",IF(AND(I14="Supplier specific",F14="Gas"),"TJ/m3",IF(I14="Select NCV","Select NCV Type in column K")))))) -> Select NCV Type in column K | L14: =IF(AND(F14="Solid",G14>=0),G14*J14,IF(AND(F14="Liquid",G14>=0,I14="IPCC Default"),G14*VLOOKUP('DATA INPUT'!E14,'1A Factors'!$G$3:$Q$103,7,FALSE)*J14/1000,IF(AND(F14="Liquid",G14>=0,I14="Country specific"),G14*J14,IF(AND(F14="Liquid",G14>=0,I14="Supplier Specific"),G14*J14,IF(AND(F14="Gas",G14>=0,I14="IPCC Default"),G14*VLOOKUP('DATA INPUT'!E14,'1A Factors'!$G$3:$Q$103,7,FALSE)*J14/1000,IF(AND(F14="Gas",G14>=0,I14="Country Specific"),G14*J14,IF(AND(F14="Gas",G14>=0,I14="Supplier Specific"),G14*J14,IF(AND(I14="Supplier specific",ISNUMBER(J14)=FALSE),"Enter Supplier specific NCV in column J","Check that consumption value or supplier specific NCV are positive non zero numbers")))))))) -> Check that consumption value or supplier specific NCV are positive non zero numbers | M14: Select Tier Method | N14: =IF(M14=1,VLOOKUP('DATA INPUT'!E14,'1A Factors'!$G$3:$Q$103,8,FALSE),IF('DATA INPUT'!M14=2,VLOOKUP('DATA INPUT'!E14,'1A Factors'!$G$3:$Q$103,9,FALSE),IF(M14="2-Manual Input","",IF('DATA INPUT'!M14=3,"","Choose a Tier in column O")))) -> Choose a Tier in column O | O14: 1 | P14: =IF(O14=1,VLOOKUP('DATA INPUT'!E14,'1A Factors'!$G$3:$Q$103,10,FALSE),"NA") -> 0 | Q14: 1 | R14: =IF(Q14=1,VLOOKUP('DATA INPUT'!E14,'1A Factors'!$G$3:$Q$103,11,FALSE),"NA") -> 0 | S14: =IF(P14="", 0, P14) -> 0 | T14: =IF(#REF!="", 0,#REF!) -> #REF! | U14: =IF(M14="2-Manual Input","Enter tier 2 manual emissions in this cell", IF(M14=3,"Enter tier 3 emissions in this cell",IF(N14>0,L14*N14/1000,"ERROR, Check CO2 EF"))) -> #VALUE! | V14: =IF(O14=1,L14*P14/1000,IF(O14=3,"Enter Tier 3 emissions in this cell","ERROR, Check CH4 EF")) -> #VALUE! | W14: =IF(Q14=1,L14*R14/1000,IF(Q14=3,"Enter Tier 3 emissions in this cell","ERROR, Check N2O EF")) -> #VALUE!
D15: Select IPCC Code | E15: Select Fuel Type | F15: =VLOOKUP($E15,'1A Factors'!$G$3:$Q$101,2,FALSE) -> 0 | H15: =IF(F15="Solid","Tonnes",IF(F15="Liquid","Litres",IF(F15="Gas","m3","Select a fuel in column F"))) -> Select a fuel in column F | I15: Select NCV | J15: =IF(I15="IPCC Default",VLOOKUP(E15,'1A Factors'!$G$3:$Q$101,3,FALSE),IF(I15="Country specific",VLOOKUP(E15,'1A Factors'!$G$3:$Q$101,5,FALSE),"")) | K15: =IF(I15="IPCC Default",VLOOKUP(E15,'1A Factors'!$G$3:$Q$101,4,FALSE),IF(I15="Country specific",VLOOKUP(E15,'1A Factors'!$G$3:$Q$101,6,FALSE),IF(AND(I15="Supplier specific",F15="Solid"),"TJ/Tonne",IF(AND(I15="Supplier specific",F15="Liquid"),"TJ/L",IF(AND(I15="Supplier specific",F15="Gas"),"TJ/m3",IF(I15="Select NCV","Select NCV Type in column K")))))) -> Select NCV Type in column K | L15: =IF(AND(F15="Solid",G15>=0),G15*J15,IF(AND(F15="Liquid",G15>=0,I15="IPCC Default"),G15*VLOOKUP('DATA INPUT'!E15,'1A Factors'!$G$3:$Q$103,7,FALSE)*J15/1000,IF(AND(F15="Liquid",G15>=0,I15="Country specific"),G15*J15,IF(AND(F15="Liquid",G15>=0,I15="Supplier Specific"),G15*J15,IF(AND(F15="Gas",G15>=0,I15="IPCC Default"),G15*VLOOKUP('DATA INPUT'!E15,'1A Factors'!$G$3:$Q$103,7,FALSE)*J15/1000,IF(AND(F15="Gas",G15>=0,I15="Country Specific"),G15*J15,IF(AND(F15="Gas",G15>=0,I15="Supplier Specific"),G15*J15,IF(AND(I15="Supplier specific",ISNUMBER(J15)=FALSE),"Enter Supplier specific NCV in column J","Check that consumption value or supplier specific NCV are positive non zero numbers")))))))) -> Check that consumption value or supplier specific NCV are positive non zero numbers | M15: Select Tier Method | N15: =IF(M15=1,VLOOKUP('DATA INPUT'!E15,'1A Factors'!$G$3:$Q$103,8,FALSE),IF('DATA INPUT'!M15=2,VLOOKUP('DATA INPUT'!E15,'1A Factors'!$G$3:$Q$103,9,FALSE),IF(M15="2-Manual Input","",IF('DATA INPUT'!M15=3,"","Choose a Tier in column O")))) -> Choose a Tier in column O | O15: 1 | P15: =IF(O15=1,VLOOKUP('DATA INPUT'!E15,'1A Factors'!$G$3:$Q$103,10,FALSE),"NA") -> 0 | Q15: 1 | R15: =IF(Q15=1,VLOOKUP('DATA INPUT'!E15,'1A Factors'!$G$3:$Q$103,11,FALSE),"NA") -> 0 | S15: =IF(P15="", 0, P15) -> 0 | T15: =IF(#REF!="", 0,#REF!) -> #REF! | U15: =IF(M15="2-Manual Input","Enter tier 2 manual emissions in this cell", IF(M15=3,"Enter tier 3 emissions in this cell",IF(N15>0,L15*N15/1000,"ERROR, Check CO2 EF"))) -> #VALUE! | V15: =IF(O15=1,L15*P15/1000,IF(O15=3,"Enter Tier 3 emissions in this cell","ERROR, Check CH4 EF")) -> #VALUE! | W15: =IF(Q15=1,L15*R15/1000,IF(Q15=3,"Enter Tier 3 emissions in this cell","ERROR, Check N2O EF")) -> #VALUE!
D16: Select IPCC Code | E16: Select Fuel Type | F16: =VLOOKUP($E16,'1A Factors'!$G$3:$Q$101,2,FALSE) -> 0 | H16: =IF(F16="Solid","Tonnes",IF(F16="Liquid","Litres",IF(F16="Gas","m3","Select a fuel in column F"))) -> Select a fuel in column F | I16: Select NCV | J16: =IF(I16="IPCC Default",VLOOKUP(E16,'1A Factors'!$G$3:$Q$101,3,FALSE),IF(I16="Country specific",VLOOKUP(E16,'1A Factors'!$G$3:$Q$101,5,FALSE),"")) | K16: =IF(I16="IPCC Default",VLOOKUP(E16,'1A Factors'!$G$3:$Q$101,4,FALSE),IF(I16="Country specific",VLOOKUP(E16,'1A Factors'!$G$3:$Q$101,6,FALSE),IF(AND(I16="Supplier specific",F16="Solid"),"TJ/Tonne",IF(AND(I16="Supplier specific",F16="Liquid"),"TJ/L",IF(AND(I16="Supplier specific",F16="Gas"),"TJ/m3",IF(I16="Select NCV","Select NCV Type in column K")))))) -> Select NCV Type in column K | L16: =IF(AND(F16="Solid",G16>=0),G16*J16,IF(AND(F16="Liquid",G16>=0,I16="IPCC Default"),G16*VLOOKUP('DATA INPUT'!E16,'1A Factors'!$G$3:$Q$103,7,FALSE)*J16/1000,IF(AND(F16="Liquid",G16>=0,I16="Country specific"),G16*J16,IF(AND(F16="Liquid",G16>=0,I16="Supplier Specific"),G16*J16,IF(AND(F16="Gas",G16>=0,I16="IPCC Default"),G16*VLOOKUP('DATA INPUT'!E16,'1A Factors'!$G$3:$Q$103,7,FALSE)*J16/1000,IF(AND(F16="Gas",G16>=0,I16="Country Specific"),G16*J16,IF(AND(F16="Gas",G16>=0,I16="Supplier Specific"),G16*J16,IF(AND(I16="Supplier specific",ISNUMBER(J16)=FALSE),"Enter Supplier specific NCV in column J","Check that consumption value or supplier specific NCV are positive non zero numbers")))))))) -> Check that consumption value or supplier specific NCV are positive non zero numbers | M16: Select Tier Method | N16: =IF(M16=1,VLOOKUP('DATA INPUT'!E16,'1A Factors'!$G$3:$Q$103,8,FALSE),IF('DATA INPUT'!M16=2,VLOOKUP('DATA INPUT'!E16,'1A Factors'!$G$3:$Q$103,9,FALSE),IF(M16="2-Manual Input","",IF('DATA INPUT'!M16=3,"","Choose a Tier in column O")))) -> Choose a Tier in column O | O16: 1 | P16: =IF(O16=1,VLOOKUP('DATA INPUT'!E16,'1A Factors'!$G$3:$Q$103,10,FALSE),"NA") -> 0 | Q16: 1 | R16: =IF(Q16=1,VLOOKUP('DATA INPUT'!E16,'1A Factors'!$G$3:$Q$103,11,FALSE),"NA") -> 0 | S16: =IF(P16="", 0, P16) -> 0 | T16: =IF(#REF!="", 0,#REF!) -> #REF! | U16: =IF(M16="2-Manual Input","Enter tier 2 manual emissions in this cell", IF(M16=3,"Enter tier 3 emissions in this cell",IF(N16>0,L16*N16/1000,"ERROR, Check CO2 EF"))) -> #VALUE! | V16: =IF(O16=1,L16*P16/1000,IF(O16=3,"Enter Tier 3 emissions in this cell","ERROR, Check CH4 EF")) -> #VALUE! | W16: =IF(Q16=1,L16*R16/1000,IF(Q16=3,"Enter Tier 3 emissions in this cell","ERROR, Check N2O EF")) -> #VALUE!
... D27: Select IPCC Code | E27: Select Fuel Type | F27: =VLOOKUP($E27,'1A Factors'!$G$3:$Q$101,2,FALSE) -> 0 | H27: =IF(F27="Solid","Tonnes",IF(F27="Liquid","Litres",IF(F27="Gas","m3","Select a fuel in column F"))) -> Select a fuel in column F | I27: Select NCV | J27: =IF(I27="IPCC Default",VLOOKUP(E27,'1A Factors'!$G$3:$Q$101,3,FALSE),IF(I27="Country specific",VLOOKUP(E27,'1A Factors'!$G$3:$Q$101,5,FALSE),"")) | K27: =IF(I27="IPCC Default",VLOOKUP(E27,'1A Factors'!$G$3:$Q$101,4,FALSE),IF(I27="Country specific",VLOOKUP(E27,'1A Factors'!$G$3:$Q$101,6,FALSE),IF(AND(I27="Supplier specific",F27="Solid"),"TJ/Tonne",IF(AND(I27="Supplier specific",F27="Liquid"),"TJ/L",IF(AND(I27="Supplier specific",F27="Gas"),"TJ/m3",IF(I27="Select NCV","Select NCV Type in column K")))))) -> Select NCV Type in column K | L27: =IF(AND(F27="Solid",G27>=0),G27*J27,IF(AND(F27="Liquid",G27>=0,I27="IPCC Default"),G27*VLOOKUP('DATA INPUT'!E27,'1A Factors'!$G$3:$Q$103,7,FALSE)*J27/1000,IF(AND(F27="Liquid",G27>=0,I27="Country specific"),G27*J27,IF(AND(F27="Liquid",G27>=0,I27="Supplier Specific"),G27*J27,IF(AND(F27="Gas",G27>=0,I27="IPCC Default"),G27*VLOOKUP('DATA INPUT'!E27,'1A Factors'!$G$3:$Q$103,7,FALSE)*J27/1000,IF(AND(F27="Gas",G27>=0,I27="Country Specific"),G27*J27,IF(AND(F27="Gas",G27>=0,I27="Supplier Specific"),G27*J27,IF(AND(I27="Supplier specific",ISNUMBER(J27)=FALSE),"Enter Supplier specific NCV in column J","Check that consumption value or supplier specific NCV are positive non zero numbers")))))))) -> Check that consumption value or supplier specific NCV are positive non zero numbers | M27: Select Tier Method | N27: =IF(M27=1,VLOOKUP('DATA INPUT'!E27,'1A Factors'!$G$3:$Q$103,8,FALSE),IF('DATA INPUT'!M27=2,VLOOKUP('DATA INPUT'!E27,'1A Factors'!$G$3:$Q$103,9,FALSE),IF(M27="2-Manual Input","",IF('DATA INPUT'!M27=3,"","Choose a Tier in column O")))) -> Choose a Tier in column O | O27: 1 | P27: =IF(O27=1,VLOOKUP('DATA INPUT'!E27,'1A Factors'!$G$3:$Q$103,10,FALSE),"NA") -> 0 | Q27: 1 | R27: =IF(Q27=1,VLOOKUP('DATA INPUT'!E27,'1A Factors'!$G$3:$Q$103,11,FALSE),"NA") -> 0 | S27: =IF(P27="", 0, P27) -> 0 | T27: =IF(#REF!="", 0,#REF!) -> #REF! | U27: =IF(M27="2-Manual Input","Enter tier 2 manual emissions in this cell", IF(M27=3,"Enter tier 3 emissions in this cell",IF(N27>0,L27*N27/1000,"ERROR, Check CO2 EF"))) -> #VALUE! | V27: =IF(O27=1,L27*P27/1000,IF(O27=3,"Enter Tier 3 emissions in this cell","ERROR, Check CH4 EF")) -> #VALUE! | W27: =IF(Q27=1,L27*R27/1000,IF(Q27=3,"Enter Tier 3 emissions in this cell","ERROR, Check N2O EF")) -> #VALUE!
B29: Additional rows should be added to the table above to accommodate additional facilities/ activities as required. | N29: Total GHG emissions from fossil fuels: | U29: =SUMIF(U4:U27,">=0") -> 625.3177 | V29: =SUMIF(V4:V27,">=0") -> 0.0067 | W29: =SUMIF(W4:W27,">=0") -> 0.01005

Sheet 1A Factors
A1: FUEL TYPE [1] | B1: CO2 (KGCO2/TJ) | C1: CH4 (KGCH4/TJ) | D1: N2O (KGN2O/TJ) | E1: DEFAULT CALORIFIC VALUE (TJ/TONNE) | I1: NCVs
A2: ANTHRACITE | B2: 98.3 | C2: 1 | D2: 1.5 | E2: 0.0267 | I2: Value | J2: Units | K2: Value | L2: Units | N2: Emission Factors
A3: AVIATION GASOLINE | B3: 70 | C3: 3 | D3: 0.6 | E3: 0.0443 | G3: Fuel Name | H3: Fuel Type | I3: IPCC Default | J3: IPCC Default | K3: Country specific | L3: CS NCV Units | M3: Density | N3: CO2 TIER 1 | O3: CO2 TIER 2 | P3: CH4 | Q3: N2O
A4: BIODIESEL | B4: 70.8 | C4: 3 | D4: 0.6 | E4: 0.027 | G4: Select Fuel Type
A5: BIOGASOLINE | B5: 70.8 | C5: 3 | D5: 0.6 | E5: 0.027 | G5: Anthracite | H5: Solid | I5: 0.0267 | J5: TJ/Tonne | K5: 0.0335 | L5: TJ/Tonne | M5: N/A | N5: 98300 | O5: 93331 | P5: 1 | Q5: 1.5
A6: BITUMEN | B6: 80.7 | C6: 3 | D6: 0.6 | E6: 0.0402 | G6: Aviation Gasoline | H6: Liquid | I6: 0.0443 | J6: TJ/Tonne | K6: 3.39e-05 | L6: TJ/L | M6: 0.714 | N6: 70000 | O6: 65752 | P6: 3 | Q6: 0.6
G7: Aviation Gasoline - mobile | H7: Liquid | I7: 0.0443 | J7: TJ/Tonne | K7: 3.39e-05 | L7: TJ/L | M7: 0.714 | N7: 70000 | O7: 65752 | P7: 0.5 | Q7: 2
G8: Acetylene | H8: Solid | I8: 0.049818 | J8: TJ/Tonne | K8: N/A | L8: N/A | M8: N/A | N8: 67870 | O8: N/A | P8: N/A | Q8: N/A
A9: BLAST FURNACE GAS | B9: 260 | C9: 1 | D9: 0.1 | E9: 0.00247 | G9: Bagasse | H9: Solid | I9: N/A | J9: N/A | K9: 0.006758 | L9: TJ/Tonne | M9: N/A | N9: N/A | O9: N/A | P9: 30 | Q9: 4
A10: BROWN COAL BRIQUETTES | B10: 97.5 | C10: 1 | D10: 1.5 | E10: 0.0207 | G10: Biodiesel | H10: Solid | I10: 0.027 | J10: TJ/Tonne | K10: N/A | L10: N/A | M10: N/A | N10: 70800 | O10: N/A | P10: 3 | Q10: 0.6
G11: Biodiesel - mobile | H11: Solid | I11: 0.027 | J11: TJ/Tonne | K11: N/A | L11: N/A | M11: N/A | N11: 70800 | O11: N/A | P11: 4.15 | Q11: 28.6
A12: CHARCOAL | B12: 112 | C12: 200 | D12: 4 | E12: 0.0295 | G12: Biogasoline | H12: Solid | I12: 0.027 | J12: TJ/Tonne | K12: N/A | L12: N/A | M12: N/A | N12: 70800 | O12: N/A | P12: 3 | Q12: 0.6
G13: Biogasoline - mobile | H13: Solid | I13: 0.027 | J13: TJ/Tonne | K13: N/A | L13: N/A | M13: N/A | N13: 70800 | O13: N/A | P13: 3.5 | Q13: 5.7
A14: COAL TAR | B14: 80.7 | C14: 1 | D14: 1.5 | E14: 0.028 | G14: Bitumen | H14: Solid | I14: 0.0402 | J14: TJ/Tonne | K14: N/A | L14: N/A | M14: N/A | N14: 80700 | O14: N/A | P14: 3 | Q14: 0.6
A15: COKE OVEN COKE AND LIGNITE COKE | B15: 107 | C15: 1 | D15: 1.5 | E15: 0.0282 | G15: Blast Furnace Gas | H15: Solid | I15: 0.00247 | J15: TJ/Tonne | K15: N/A | L15: N/A | M15: N/A | N15: 260000 | O15: N/A | P15: 1 | Q15: 0.1
A16: COKE OVEN GAS | B16: 44.4 | C16: 1 | D16: 0.1 | E16: 0.0387 | G16: Brown Coal Briquettes | H16: Solid | I16: 0.0207 | J16: TJ/Tonne | K16: N/A | L16: N/A | M16: N/A | N16: 97500 | O16: N/A | P16: 1 | Q16: 1.5
A17: COKING COAL | B17: 94.6 | C17: 1 | D17: 1.5 | E17: 0.0282 | G17: Charcoal | H17: Solid | I17: 0.0295 | J17: TJ/Tonne | K17: 0.031 | L17: TJ/Tonne | M17: N/A | N17: 112000 | O17: 98184 | P17: 200 | Q17: 4
A18: CRUDE OIL | B18: 73.3 | C18: 3 | D18: 0.6 | E18: 0.0438 | G18: Coal Tar | H18: Solid | I18: 0.028 | J18: TJ/Tonne | K18: N/A | L18: N/A | M18: N/A | N18: 80700 | O18: N/A | P18: 1 | Q18: 1.5
A19: DIESEL | B19: 74.1 | C19: 3 | D19: 0.6 | E19: 0.0381 | G19: Coke Oven Coke And Lignite Coke | H19: Solid | I19: 0.0282 | J19: TJ/Tonne | K19: N/A | L19: N/A | M19: N/A | N19: 107000 | O19: N/A | P19: 1 | Q19: 1.5
A20: ETHANE | B20: 61.6 | C20: 1 | D20: 0.1 | E20: 0.0464 | G20: Coke Oven Gas | H20: Solid | I20: 0.0387 | J20: TJ/Tonne | K20: N/A | L20: N/A | M20: N/A | N20: 44400 | O20: =N20+100 -> 44500 | P20: 1 | Q20: 0.1
A21: GAS COKE | B21: 107 | C21: 1 | D21: 0.1 | E21: 0.0173 | G21: Coking Coal | H21: Solid | I21: 0.0282 | J21: TJ/Tonne | K21: 0.0301 | L21: TJ/Tonne | M21: N/A | N21: 94600 | O21: 87099 | P21: 1 | Q21: 1.5
G22: Compressed Natural Gas - mobile | H22: Gas | I22: 0.048 | J22: TJ/Tonne | K22: 3.701e-05 | L22: TJ/m3 | M22: 0.77005443 | N22: 56100 | O22: 55709 | P22: 1 | Q22: 0.1
G23: Compressed Natural Gas | H23: Gas | I23: 0.048 | J23: TJ/Tonne | K23: 3.701e-05 | L23: TJ/m3 | M23: 0.77005443 | N23: 56100 | O23: 55709 | P23: 92 | Q23: 3
A24: GAS WORKS GAS | B24: 44.4 | C24: 1 | D24: 0.1 | E24: 0.0387 | G24: Crude Oil | H24: Solid | I24: 0.0438 | J24: TJ/Tonne | K24: N/A | L24: N/A | M24: N/A | N24: 73300 | O24: =N24+100 -> 73400 | P24: 3 | Q24: 0.6
A25: INDUSTRIAL WASTES | B25: 143 | C25: 30 | D25: 4 | E25: NA | G25: Diesel | H25: Liquid | I25: 0.043 | J25: TJ/Tonne | K25: 3.55e-05 | L25: TJ/L | M25: 0.8255 | N25: 74100 | O25: 74638 | P25: 3 | Q25: 0.6
G26: Diesel - ocean going ships | H26: Liquid | I26: 0.043 | J26: TJ/Tonne | K26: 3.55e-05 | L26: TJ/L | M26: 0.8255 | N26: 74100 | O26: 74638 | P26: 7 | Q26: 2
G27: Diesel - offroad | H27: Liquid | I27: 0.043 | J27: TJ/Tonne | K27: 3.55e-05 | L27: TJ/L | M27: 0.8255 | N27: 74100 | O27: 74638 | P27: 3.9 | Q27: 3.9
G28: Diesel - rail | H28: Liquid | I28: 0.043 | J28: TJ/Tonne | K28: 3.55e-05 | L28: TJ/L | M28: 0.8255 | N28: 74100 | O28: 74638 | P28: 4.15 | Q28: 28.6
G29: Diesel - mobile | H29: Liquid | I29: 0.043 | J29: TJ/Tonne | K29: 3.55e-05 | L29: TJ/L | M29: 0.8255 | N29: 74100 | O29: 74638 | P29: 4.15 | Q29: 28.6
G30: Ethane | H30: Solid | I30: 0.0464 | J30: TJ/Tonne | K30: N/A | L30: N/A | M30: N/A | N30: 61600 | O30: N/A | P30: 1 | Q30: 0.1
A31: JET GASOLINE | B31: 70 | C31: 3 | D31: 0.6 | E31: 0.0443 | G31: Fuel Oil 180 | H31: Solid | I31: N/A | J31: N/A | K31: 0.042 | L31: TJ/Tonne | M31: 0.99 | N31: 77400 | O31: 73090 | P31: 3 | Q31: 0.6
A32: JET KEROSENE | B32: 71.5 | C32: 3 | D32: 0.6 | E32: 0.0441 | G32: Gas Coke | H32: Solid | I32: 0.0173 | J32: TJ/Tonne | K32: N/A | L32: N/A | M32: N/A | N32: 107000 | O32: N/A | P32: 1 | Q32: 0.1
A33: LANDFILL GAS | B33: 54.6 | C33: 1 | D33: 0.1 | E33: 0.0504 | G33: Gas Works Gas | H33: Solid | I33: 0.0387 | J33: TJ/Tonne | K33: N/A | L33: N/A | M33: N/A | N33: 44400 | O33: =N33+100 -> 44500 | P33: 1 | Q33: 0.1
G34: General Purpose Coal | H34: Solid | I34: 0.0243 | J34: TJ/Tonne | K34: 0.02651 | L34: TJ/Tonne | M34: N/A | N34: 94600 | O34: 82912 | P34: 1 | Q34: 1.5
A35: LIGNITE | B35: 101 | C35: 1 | D35: 1.5 | E35: 0.0119 | G35: Industrial Wastes | H35: Solid | I35: NA | J35: TJ/Tonne | K35: N/A | L35: N/A | M35: N/A | N35: 143000 | O35: N/A | P35: 30 | Q35: 4
G36: Jet Fuel (Jet A1) | H36: Liquid | I36: 0.0441 | J36: TJ/Tonne | K36: 3.75e-05 | L36: TJ/L | M36: 0.79 | N36: 71500 | O36: 73463 | P36: 0.5 | Q36: 2
A37: LIQUEFIED PETROLEUM GASES | B37: 63.1 | C37: 1 | D37: 0.1 | E37: 0.0473 | G37: Jet Gasoline | H37: Liquid | I37: 0.0443 | J37: TJ/Tonne | K37: 3.39e-05 | L37: TJ/L | M37: 0.714 | N37: 70000 | O37: 65752 | P37: 3 | Q37: 0.6
A38: LUBRICANTS | B38: 73.3 | C38: 3 | D38: 0.6 | E38: 0.0402 | G38: Jet Kerosene | H38: Liquid | I38: 0.0441 | J38: TJ/Tonne | K38: 3.44e-05 | L38: TJ/L | M38: 0.794 | N38: 71500 | O38: 73463 | P38: 3 | Q38: 0.6
G39: Jet Kerosene - mobile | H39: Liquid | I39: 0.0441 | J39: TJ/Tonne | K39: 3.44e-05 | L39: TJ/L | M39: 0.794 | N39: 71500 | O39: 73463 | P39: 0.5 | Q39: 2
A40: MUNICIPAL WASTES (BIOMASS FRACTION) | B40: 100 | C40: 30 | D40: 4 | E40: 0.0116 | G40: Landfill Gas | H40: Solid | I40: 0.0504 | J40: TJ/Tonne | K40: N/A | L40: N/A | M40: N/A | N40: 54600 | O40: N/A | P40: 1 | Q40: 0.1
A41: MUNICIPAL WASTES (NON BIOMASS FRACTION) | B41: 91.7 | C41: 30 | D41: 4 | E41: 0.01 | G41: Lignite | H41: Solid | I41: 0.0119 | J41: TJ/Tonne | K41: 0.01373 | L41: TJ/Tonne | M41: N/A | N41: 101000 | O41: 103610 | P41: 1 | Q41: 1.5
G42: Liquefied Natural Gases - mobile | H42: Gas | I42: 0.048 | J42: TJ/Tonne | K42: 3.701e-05 | L42: TJ/m3 | M42: 0.77005443 | N42: 56100 | O42: 55709 | P42: 92 | Q42: 3
A43: NAPHTHA | B43: 73.7 | C43: 3 | D43: 0.6 | E43: 0.0445 | G43: Liquefied Petroleum Gases | H43: Solid | I43: 0.0473 | J43: TJ/Tonne | K43: 0.04629 | L43: TJ/Tonne | M43: N/A | N43: 63100 | O43: 64852 | P43: 1 | Q43: 0.1
G44: Liquefied Petroleum Gases - mobile | H44: Solid | I44: 0.0473 | J44: TJ/Tonne | K44: 0.04629 | L44: TJ/Tonne | M44: N/A | N44: 63100 | O44: 64852 | P44: 62 | Q44: 0.2
A45: NATURAL GAS | B45: 56.1 | C45: 1 | D45: 0.1 | E45: 0.048 | G45: Lubricants | H45: Solid | I45: 0.0402 | J45: TJ/Tonne | K45: N/A | L45: N/A | M45: N/A | N45: 73300 | O45: N/A | P45: 3 | Q45: 0.6
A46: NATURAL GAS LIQUIDS | B46: 64.2 | C46: 3 | D46: 0.6 | E46: 0.041 | G46: Municipal Wastes (Biomass Fraction) | H46: Solid | I46: 0.0116 | J46: TJ/Tonne | K46: N/A | L46: N/A | M46: N/A | N46: 100000 | O46: N/A | P46: 30 | Q46: 4
A47: OIL SHALE AND TAR SANDS | B47: 107 | C47: 1 | D47: 1.5 | E47: 0.0089 | G47: Municipal Wastes (Non Biomass Fraction) | H47: Solid | I47: 0.01 | J47: TJ/Tonne | K47: N/A | L47: N/A | M47: N/A | N47: 91700 | O47: N/A | P47: 30 | Q47: 4
A48: ORIMULSION | B48: 77 | C48: 3 | D48: 0.6 | E48: 0.0275 | G48: Naphtha | H48: Solid | I48: 0.0445 | J48: TJ/Tonne | K48: N/A | L48: N/A | M48: N/A | N48: 73700 | O48: N/A | P48: 3 | Q48: 0.6
A49: OTHER BIOGAS | B49: 54.6 | C49: 1 | D49: 0.1 | E49: 0.0504 | G49: Natural Gas | H49: Gas | I49: 0.048 | J49: TJ/Tonne | K49: 3.6856e-05 | L49: TJ/m3 | M49: 0.77005443 | N49: 56100 | O49: 55664 | P49: 1 | Q49: 0.1
G50: Natural Gas - mobile | H50: Gas | I50: 0.048 | J50: TJ/Tonne | K50: 3.6856e-05 | L50: TJ/m3 | M50: 0.77005443 | N50: 56100 | O50: 55664 | P50: 92 | Q50: 3
A51: OTHER BITUMINOUS COAL | B51: 94.6 | C51: 1 | D51: 1.5 | E51: 0.0192 | G51: Natural Gas Liquids | H51: Solid | I51: 0.041 | J51: TJ/Tonne | K51: N/A | L51: N/A | M51: N/A | N51: 64200 | O51: N/A | P51: 3 | Q51: 0.6
A52: OTHER KEROSENE | B52: 71.9 | C52: 3 | D52: 0.6 | E52: 0.037 | G52: Oil Shale And Tar Sands | H52: Solid | I52: 0.0089 | J52: TJ/Tonne | K52: N/A | L52: N/A | M52: N/A | N52: 107000 | O52: N/A | P52: 1 | Q52: 1.5
A53: OTHER LIQUID BIOFUELS | B53: 79.6 | C53: 3 | D53: 0.6 | E53: 0.0274 | G53: Orimulsion | H53: Solid | I53: 0.0275 | J53: TJ/Tonne | K53: N/A | L53: N/A | M53: N/A | N53: 77000 | O53: N/A | P53: 3 | Q53: 0.6
A54: OTHER PETROLEUM PRODUCTS | B54: 73.3 | C54: 3 | D54: 0.6 | E54: 0.0402 | G54: Other Biogas | H54: Solid | I54: 0.0504 | J54: TJ/Tonne | K54: N/A | L54: N/A | M54: N/A | N54: 54600 | O54: N/A | P54: 1 | Q54: 0.1
A55: OTHER PRIMARY SOLID BIOMASS | B55: 100 | C55: 30 | D55: 4 | E55: 0.0116 | G55: Other Bituminous Coal | H55: Solid | I55: 0.0192 | J55: TJ/Tonne | K55: 0.02651 | L55: TJ/Tonne | M55: N/A | N55: 94600 | O55: 82912 | P55: 1 | Q55: 1.5
A56: OXYGEN STEEL FURNACE GAS | B56: 182 | C56: 1 | D56: 0.1 | E56: 0.00706 | G56: Other Kerosene | H56: Liquid | I56: 0.037 | J56: TJ/Tonne | K56: 3.75e-05 | L56: TJ/L | M56: 0.765 | N56: 71900 | O56: 64640 | P56: 3 | Q56: 0.6
G57: Other Kerosene - mobile | H57: Liquid | I57: 0.037 | J57: TJ/Tonne | K57: 3.75e-05 | L57: TJ/L | M57: 0.765 | N57: 71900 | O57: 64640 | P57: 3 | Q57: 0.6
A58: PARAFFIN | B58: 71.9 | C58: 3 | D58: 0.6 | E58: 0.0438 | G58: Other Liquid Biofuels | H58: Solid | I58: 0.0274 | J58: TJ/Tonne | K58: N/A | L58: N/A | M58: N/A | N58: 79600 | O58: N/A | P58: 3 | Q58: 0.6
A59: PARAFFIN WAXES | B59: 73.3 | C59: 3 | D59: 0.6 | E59: 0.0402 | G59: Other Petroleum Products | H59: Solid | I59: 0.0402 | J59: TJ/Tonne | K59: N/A | L59: N/A | M59: N/A | N59: 73300 | O59: N/A | P59: 3 | Q59: 0.6
A60: PATENT FUEL | B60: 97.5 | C60: 1 | D60: 1.5 | E60: 0.0207 | G60: Other Primary Solid Biomass | H60: Solid | I60: 0.0116 | J60: TJ/Tonne | K60: N/A | L60: N/A | M60: N/A | N60: 100000 | O60: N/A | P60: 30 | Q60: 4
A61: PEAT | B61: 106 | C61: 1 | D61: 1.5 | E61: 0.00976 | G61: Oxygen Steel Furnace Gas | H61: Solid | I61: 0.00706 | J61: TJ/Tonne | K61: N/A | L61: N/A | M61: N/A | N61: 182000 | O61: N/A | P61: 1 | Q61: 0.1
A62: PETROL | B62: 69.3 | C62: 3 | D62: 0.6 | E62: 0.0443 | G62: Paraffin | H62: Liquid | I62: 0.0438 | J62: TJ/Tonne | K62: 3.75e-05 | L62: TJ/L | M62: 0.765 | N62: 71900 | O62: 64640 | P62: 3 | Q62: 0.6
A63: PETROLEUM COKE | B63: 97.5 | C63: 3 | D63: 0.6 | E63: 0.0325 | G63: Paraffin Waxes | H63: Solid | I63: 0.0402 | J63: TJ/Tonne | K63: N/A | L63: N/A | M63: N/A | N63: 73300 | O63: N/A | P63: 3 | Q63: 0.6
A64: REFINERY FEEDSTOCK | B64: 73.3 | C64: 3 | D64: 0.6 | E64: 0.043 | G64: Patent Fuel | H64: Solid | I64: 0.0207 | J64: TJ/Tonne | K64: N/A | L64: N/A | M64: N/A | N64: 97500 | O64: N/A | P64: 1 | Q64: 1.5
A65: REFINERY GAS | B65: 57.6 | C65: 1 | D65: 0.1 | E65: 0.0495 | G65: Peat | H65: Solid | I65: 0.00976 | J65: TJ/Tonne | K65: N/A | L65: N/A | M65: N/A | N65: 106000 | O65: N/A | P65: 1 | Q65: 1.5
A66: RESIDUAL FUEL OIL (HEAVY FUEL OIL) | B66: 77.4 | C66: 3 | D66: 0.6 | E66: 0.0404 | G66: Petrol | H66: Liquid | I66: 0.0443 | J66: TJ/Tonne | K66: 3.25e-05 | L66: TJ/L | M66: 0.7405 | N66: 69300 | O66: 72430 | P66: 3 | Q66: 0.6
G67: Petrol - mobile | H67: Liquid | I67: 0.0443 | J67: TJ/Tonne | K67: 3.25e-05 | L67: TJ/L | M67: 0.7405 | N67: 69300 | O67: 72430 | P67: 3.5 | Q67: 5.7
G68: Petrol - oxidation catalyst | H68: Liquid | I68: 0.0443 | J68: TJ/Tonne | K68: 3.25e-05 | L68: TJ/L | M68: 0.7405 | N68: 69300 | O68: 72430 | P68: 25 | Q68: 8
G69: Petrol - uncontrolled | H69: Liquid | I69: 0.0443 | J69: TJ/Tonne | K69: 3.25e-05 | L69: TJ/L | M69: 0.7405 | N69: 69300 | O69: 72430 | P69: 33 | Q69: 3.2
A70: SHALE OIL | B70: 73.3 | C70: 3 | D70: 0.6 | E70: 0.0381 | G70: Petroleum Coke | H70: Solid | I70: 0.0325 | J70: TJ/Tonne | K70: N/A | L70: N/A | M70: N/A | N70: 97500 | O70: N/A | P70: 3 | Q70: 0.6
A71: SLUDGE GAS | B71: 54.6 | C71: 1 | D71: 0.1 | E71: 0.0504 | G71: Refinery Feedstock | H71: Solid | I71: 0.043 | J71: TJ/Tonne | K71: N/A | L71: N/A | M71: N/A | N71: 73300 | O71: N/A | P71: 3 | Q71: 0.6
G72: Refinery Gas | H72: Solid | I72: 0.0495 | J72: TJ/Tonne | K72: N/A | L72: N/A | M72: N/A | N72: 57600 | O72: N/A | P72: 1 | Q72: 0.1
A73: SUB-BITUMINOUS COAL | B73: 96.1 | C73: 1 | D73: 1.5 | E73: 0.0192 | G73: Refuse Derived Fuel | H73: Solid | I73: N/A | J73: N/A | K73: 0.0238 | L73: TJ/Tonne | M73: N/A | N73: N/A | O73: 83000 | P73: 30 | Q73: 4
G74: Residual Fuel Oil (Heavy Fuel Oil) | H74: Solid | I74: 0.0404 | J74: TJ/Tonne | K74: 0.043 | L74: TJ/Tonne | M74: 0.994 | N74: 77400 | O74: 73090 | P74: 3 | Q74: 0.6
G75: Residual Fuel Oil (Heavy Fuel Oil) - mobile | H75: Solid | I75: 0.0404 | J75: TJ/Tonne | K75: 0.043 | L75: TJ/Tonne | M75: 0.994 | N75: 77400 | O75: 73090 | P75: 7 | Q75: 2
G76: Sasol MRG | H76: Gas | I76: N/A | J76: N/A | K76: 3.3141e-05 | L76: TJ/m3 | M76: N/A | N76: N/A | O76: 54891 | P76: 1 | Q76: 0.1
G77: Sasol Polyfuel 7/40D | H77: Solid | I77: N/A | J77: N/A | K77: 0.04321 | L77: TJ/Tonne | M77: N/A | N77: 74100 | O77: 73805 | P77: 3 | Q77: 0.6
G78: Sasol Catlight Blend | H78: Solid | I78: N/A | J78: N/A | K78: 0.04177 | L78: TJ/Tonne | M78: N/A | N78: 74100 | O78: 76522 | P78: 3 | Q78: 0.6
G79: Sasol HFO-150 | H79: Solid | I79: N/A | J79: N/A | K79: 0.04058 | L79: TJ/Tonne | M79: N/A | N79: 77400 | O79: 79223 | P79: 3 | Q79: 0.6
G80: Sasol LS-HFO | H80: Solid | I80: N/A | J80: N/A | K80: 0.0412 | L80: TJ/Tonne | M80: N/A | N80: 77400 | O80: 77683 | P80: 3 | Q80: 0.6
G81: Sasol Fuel Oil 10 | H81: Solid | I81: N/A | J81: N/A | K81: 0.04214 | L81: TJ/Tonne | M81: N/A | N81: 77400 | O81: 75897 | P81: 3 | Q81: 0.6
G82: Sasol MTP Coker Gas Oil | H82: Solid | I82: N/A | J82: N/A | K82: 0.03726 | L82: TJ/Tonne | M82: N/A | N82: 80700 | O82: 83887 | P82: 1 | Q82: 1.5
G83: Sasol Dusty Tar | H83: Solid | I83: N/A | J83: N/A | K83: 0.03732 | L83: TJ/Tonne | M83: N/A | N83: 80700 | O83: 81271 | P83: 1 | Q83: 1.5
G84: Sasol Butanol Fuel Oil (BFO) | H84: Solid | I84: N/A | J84: N/A | K84: 0.03186 | L84: TJ/Tonne | M84: N/A | N84: 73300 | O84: 76638 | P84: 3 | Q84: 0.6
G85: Sasol Mixed Alcohol | H85: Solid | I85: N/A | J85: N/A | K85: 0.02823 | L85: TJ/Tonne | M85: N/A | N85: 73300 | O85: 73320 | P85: 3 | Q85: 0.6
G86: Sasol Non-acid Chemicals (NAC) | H86: Solid | I86: N/A | J86: N/A | K86: 0.02046 | L86: TJ/Tonne | M86: N/A | N86: 73300 | O86: 75734 | P86: 3 | Q86: 0.6
G87: Sasol Sabufuel | H87: Solid | I87: N/A | J87: N/A | K87: 0.03454 | L87: TJ/Tonne | M87: N/A | N87: 73300 | O87: 73288 | P87: 3 | Q87: 0.6
G88: Sasol Flare Knockout Liquid (FKOL) | H88: Solid | I88: N/A | J88: N/A | K88: 0.04096 | L88: TJ/Tonne | M88: N/A | N88: 73300 | O88: 76994 | P88: 3 | Q88: 0.6
... G90: Sasol Cold Condensate | H90: Solid | I90: N/A | J90: N/A | K90: 0.04081 | L90: TJ/Tonne | M90: N/A | N90: 73300 | O90: 73691 | P90: 3 | Q90: 0.6
A91: SULPHITE LYES (BLACK LIQUOR) | B91: 95.3 | C91: 3 | D91: 2 | E91: 0.0118 | G91: Sawdust | H91: Solid | I91: N/A | J91: N/A | K91: 0.0146 | L91: TJ/Tonne | M91: N/A | N91: N/A | O91: 110000 | P91: 30 | Q91: 4
A92: WASTE OILS | B92: 73.3 | C92: 30 | D92: 4 | E92: 0.0402 | G92: Shale Oil | H92: Solid | I92: 0.0381 | J92: TJ/Tonne | K92: N/A | L92: N/A | M92: N/A | N92: 73300 | O92: N/A | P92: 3 | Q92: 0.6
A93: WASTE TYRE | B93: 88400 | C93: 1 | D93: 1.5 | E93: NA | G93: Sludge Gas | H93: Solid | I93: 0.0504 | J93: TJ/Tonne | K93: N/A | L93: N/A | M93: N/A | N93: 54600 | O93: N/A | P93: 1 | Q93: 0.1
A94: WHITE SPIRIT AND SBP | B94: 73.3 | C94: 3 | D94: 0.6 | E94: 0.0402 | G94: Sub-Bituminous Coal | H94: Solid | I94: 0.0192 | J94: TJ/Tonne | K94: 0.01914 | L94: TJ/Tonne | M94: N/A | N94: 96100 | O94: 96777 | P94: 1 | Q94: 1.5
G95: Sub-bituminous Coal - Rail | H95: Solid | I95: 0.0192 | J95: TJ/Tonne | K95: 0.01914 | L95: TJ/Tonne | M95: N/A | N95: 96100 | O95: 96777 | P95: 2 | Q95: 1.5
A96: WOOD/WOOD WASTE | B96: 112 | C96: 30 | D96: 4 | E96: 0.0156 | G96: Sulphite Lyes (Black Liquor) | H96: Solid | I96: 0.0118 | J96: TJ/Tonne | K96: N/A | L96: N/A | M96: N/A | N96: 95300 | O96: N/A | P96: 3 | Q96: 2
G97: Waste Oils | H97: Solid | I97: 0.0402 | J97: TJ/Tonne | K97: N/A | L97: N/A | M97: N/A | N97: 73300 | O97: N/A | P97: 30 | Q97: 4
G98: Waste Tyre | H98: Solid | I98: 0.0325 | J98: TJ/Tonne | K98: 0.0337 | L98: TJ/Tonne | M98: N/A | N98: 88400 | O98: 85000 | P98: 1 | Q98: 1.5
G99: White Spirit And Sbp | H99: Solid | I99: 0.0402 | J99: TJ/Tonne | K99: N/A | L99: N/A | M99: N/A | N99: 73300 | O99: N/A | P99: 3 | Q99: 0.6
G100: Wood/Wood Waste | H100: Solid | I100: 0.0156 | J100: TJ/Tonne | K100: N/A | L100: N/A | M100: N/A | N100: 112000 | O100: N/A | P100: 30 | Q100: 4
G101: Wood Charcoal | H101: Solid | I101: N/A | J101: N/A | K101: 0.031 | L101: TJ/Tonne | M101: 16 | N101: 112000 | O101: 98184 | P101: 200 | Q101: 4
...

Sheet TIERS
A1: Tier | C1: NCV
A2: Select Tier Method | C2: Select NCV
A3: 1 | C3: IPCC Default
A4: 2 | C4: Country Specific
A5: 3 | C5: Supplier Specific

Sheet IPCC Codes
A1: Select IPCC Code
A2: 1A1
A3: 1A1ai
A4: 1A1aii
A5: 1A1b
A6: 1A1ci
A7: 1A1cii
A8: 1A2a
A9: 1A2b
A10: 1A2c
A11: 1A2d
A12: 1A2e
... A42: 1A5c
